BEGIN:VCALENDAR
VERSION:2.0
PRODID:Events Booking
BEGIN:VEVENT
UID:69e7a7f5a4caf
SUMMARY:Combined Firearms Course - SPECIAL EDITION Fundamentals Level 1
DESCRIPTION:CFC Fundamentals SPECIAL EDITION: AR15\, AK47\, Glock + Special
  Shotgun &amp\; UZI Edition. Designed by BZ Academy\, this intensive marks
 manship course equips civilians and armed professionals with core weapon-h
 andling skills on primary platforms—AR15 carbine or AK47—and the Glock
  17/19 pistol as a secondary system. In a controlled\, safety-first enviro
 nment\, you'll master techniques to slash reaction times\, fire faster wit
 h precision\, and build unshakable confidence. ONE-OFF SPECIAL EDITION: Ex
 perience two bonus firearms—pump-action shotgun and a UZI submachine gun
 —while engaging reactive steel poppers for dynamic feedback. Limited spo
 ts. Elevate your skills with platforms you trust—and two you’ve always
  wanted to try.
LOCATION:59-800 Radostów Średni\, Polska
DTSTART:20251212T090000Z
DTEND:20251214T160000Z
DTSTAMP:20260421T183813Z
ORGANIZER;CN=BZ Academy International:MAILTO:info@bz-academy.com
GEO:51.134581;15.371725
X-APPLE-STRUCTURED-LOCATION;VALUE=URI;X-ADDRESS=59-800 Radostów Średni\, 
 Polska;X-APPLE-RADIUS=72;X-TITLE=BZ ACADEMY TRAINING FACILITY - POLAND:51.
 134581;15.371725
END:VEVENT
END:VCALENDAR