BEGIN:VCALENDAR
VERSION:2.0
PRODID:Events Booking
BEGIN:VEVENT
UID:69e56baf9f91d
SUMMARY:Concealed Carry Weapon CCW
DESCRIPTION:
 Concealed Carry Course is open to all those who would like t
 o learn and practise the use of a handgun from a concealed position. In Eu
 rope\, this is the only way to carry firearms whether you are a Close Prot
 ection Officer\, Sports Shooter or you carry your firearms for self-defenc
 e purposes.  In this course\, we'll teach you about all the aspects of ca
 rrying your firearms not limited only to the technical part\, but also we'
 ll cover the legal side of it. You'll learn how to set up yourself for con
 cealed carry\, and how to draw your firearms from a concealed position whe
 ther it's an appendix or side carry plus we'll do countless drills to make
  your response fast\, accurate\, and effective. You must have completed Ta
 ctical handgun\, or CFC Fundamentals to attend. Check course content for c
 larification. 
LOCATION:59-800 Radostów Średni\, Polska
DTSTART:20230616T090000Z
DTEND:20230617T160000Z
DTSTAMP:20260420T015631Z
ORGANIZER;CN=BZ Academy International:MAILTO:info@bz-academy.com
GEO:51.134581;15.371725
X-APPLE-STRUCTURED-LOCATION;VALUE=URI;X-ADDRESS=59-800 Radostów Średni\, 
 Polska;X-APPLE-RADIUS=72;X-TITLE=BZ ACADEMY TRAINING FACILITY - POLAND:51.
 134581;15.371725
END:VEVENT
END:VCALENDAR