BEGIN:VCALENDAR
VERSION:2.0
PRODID:Events Booking
BEGIN:VEVENT
UID:69e59a40a7642
SUMMARY:Krav Maga Urban Extreme CQB Pistol
DESCRIPTION:
 NO PREVIOUS KRAV MAGA OR PISTOL EXPERIENCE IS NEEDED. The co
 urse is designed to develop an understanding of firearms disarm techniques
 \, weapon retention and using the Pistol in a CQB environment. Students wi
 ll use FX-designated Glocks and learn the fundamentals of shooting with re
 al live ammo. Participants will learn how to disarm the attacker and how t
 o bring the gun in operational condition to use as a future self-defence t
 ool. You'll have a chance to test yourself in real-life scenarios with ade
 quate use of force according to your local Law. The course is great for ci
 vilians\, self-defence practitioners and armed professionals.
LOCATION:59-800 Radostów Średni\, Polska
DTSTART:20230414T090000Z
DTEND:20230416T160000Z
DTSTAMP:20260420T051512Z
ORGANIZER;CN=BZ Academy International:MAILTO:info@bz-academy.com
GEO:51.134581;15.371725
X-APPLE-STRUCTURED-LOCATION;VALUE=URI;X-ADDRESS=59-800 Radostów Średni\, 
 Polska;X-APPLE-RADIUS=72;X-TITLE=BZ ACADEMY TRAINING FACILITY - POLAND:51.
 134581;15.371725
END:VEVENT
END:VCALENDAR